BEGIN:VCALENDAR
VERSION:2.0
PRODID:-//pretix//pretix.eu//
BEGIN:VEVENT
UID:pretix-quadriga-q-129916-4920624@tickets.depak.de
DTSTART;VALUE=DATE:20261123
DTEND;VALUE=DATE:20261127
DESCRIPTION:Tickets: https://tickets.depak.de/q-129916/4920624/\nVeranstalt
 er: Quadriga
DTSTAMP:20260419T135313Z
LOCATION:Quadriga Campus
SUMMARY:Sustainability Communication in Practice I Praxiskurs mit Zertifika
 t
END:VEVENT
END:VCALENDAR
