BEGIN:VCALENDAR
VERSION:2.0
PRODID:-//pretix//pretix.eu//
BEGIN:VEVENT
UID:pretix-quadriga-q-129456-4911189@tickets.depak.de
DTSTART;VALUE=DATE:20261110
DTEND;VALUE=DATE:20261112
DESCRIPTION:Tickets: https://tickets.depak.de/q-129456/4911189/\nVeranstalt
 er: Quadriga
DTSTAMP:20260421T085401Z
LOCATION:Virtueller Konferenzraum
SUMMARY:Krisenmanagement in der internen Kommunikation
END:VEVENT
END:VCALENDAR
