BEGIN:VCALENDAR
VERSION:2.0
PRODID:-//pretix//pretix.eu//
BEGIN:VEVENT
UID:pretix-quadriga-q-129456-4911188@tickets.depak.de
DTSTART;VALUE=DATE:20260910
DTEND;VALUE=DATE:20260912
DESCRIPTION:Tickets: https://tickets.depak.de/q-129456/4911188/\nVeranstalt
 er: Quadriga
DTSTAMP:20260421T084754Z
LOCATION:Virtueller Konferenzraum
SUMMARY:Krisenmanagement in der internen Kommunikation
END:VEVENT
END:VCALENDAR
